BEGIN:VCALENDAR
VERSION:2.0
PRODID:-//Fort Worth Audubon Society - ECPv6.15.20//NONSGML v1.0//EN
CALSCALE:GREGORIAN
METHOD:PUBLISH
X-ORIGINAL-URL:https://wpsite.fwas.org
X-WR-CALDESC:Events for Fort Worth Audubon Society
REFRESH-INTERVAL;VALUE=DURATION:PT1H
X-Robots-Tag:noindex
X-PUBLISHED-TTL:PT1H
BEGIN:VTIMEZONE
TZID:Asia/Karachi
BEGIN:STANDARD
TZOFFSETFROM:+0500
TZOFFSETTO:+0500
TZNAME:PKT
DTSTART:20200101T000000
END:STANDARD
END:VTIMEZONE
BEGIN:VTIMEZONE
TZID:UTC
BEGIN:STANDARD
TZOFFSETFROM:+0000
TZOFFSETTO:+0000
TZNAME:UTC
DTSTART:20210101T000000
END:STANDARD
END:VTIMEZONE
BEGIN:VEVENT
DTSTART;TZID=Asia/Karachi:20220310T190000
DTEND;TZID=Asia/Karachi:20220310T210000
DTSTAMP:20260424T193253
CREATED:20211028T171424Z
LAST-MODIFIED:20211028T171424Z
UID:942-1646938800-1646946000@wpsite.fwas.org
SUMMARY:March General Meeting
DESCRIPTION:
URL:https://wpsite.fwas.org/event/march-general-meeting/
LOCATION:Meet virtually via zoom until UNT Health & Science Center Research & Ed Bldg\, Rm 100 is available to public. Obtain login credentials  via “Contact Us”\, Request zoom link via "contact us"
CATEGORIES:General Meeting
END:VEVENT
BEGIN:VEVENT
DTSTART;TZID=UTC:20220210T080000
DTEND;TZID=UTC:20220210T170000
DTSTAMP:20260424T193253
CREATED:20211028T170827Z
LAST-MODIFIED:20211028T170827Z
UID:940-1644480000-1644512400@wpsite.fwas.org
SUMMARY:February General Meeting
DESCRIPTION:
URL:https://wpsite.fwas.org/event/february-general-meeting/
LOCATION:Meet virtually via zoom until UNT Health & Science Center Research & Ed Bldg\, Rm 100 is available to public. Obtain login credentials  via “Contact Us”\, Request zoom link via "contact us"
CATEGORIES:General Meeting
END:VEVENT
BEGIN:VEVENT
DTSTART;TZID=Asia/Karachi:20220113T190000
DTEND;TZID=Asia/Karachi:20220113T210000
DTSTAMP:20260424T193253
CREATED:20211028T170625Z
LAST-MODIFIED:20220103T173832Z
UID:938-1642100400-1642107600@wpsite.fwas.org
SUMMARY:January General Meeting
DESCRIPTION:Ty’s Adventures and Lifers of Rio Diablo Birding Camp\nFeatured speaker: Ty Allen (live\, not pre-recorded)\nTiming: login as early as 6:45 for a little social time and stick around to hear answers to questions posed during the meeting and/or ask further questions via the chat function in Zoom.\nClick here to join this Zoom meeting. Meeting ID: 817 496 4437 Passcode: 941033
URL:https://wpsite.fwas.org/event/january-general-meeting/
LOCATION:Meet virtually via zoom until UNT Health & Science Center Research & Ed Bldg\, Rm 100 is available to public. Obtain login credentials  via “Contact Us”\, Request zoom link via "contact us"
CATEGORIES:General Meeting
END:VEVENT
BEGIN:VEVENT
DTSTART;TZID=Asia/Karachi:20211209T190000
DTEND;TZID=Asia/Karachi:20211209T210000
DTSTAMP:20260424T193253
CREATED:20211025T173515Z
LAST-MODIFIED:20211129T224217Z
UID:742-1639076400-1639083600@wpsite.fwas.org
SUMMARY:December General Meeting
DESCRIPTION:December Member Meeting\, Thursday\, 12/9/2021 starting at 7:00 p.m. \nSubject: North Texas Climate – Weather and Climate Change Featured speaker: Ted Ryan (live\, not pre-recorded) Timing: login as early as 6:45 for a little social time and stick around to hear answers to questions posed during the meeting and/or ask further questions via the chat function in Zoom. \nClick here to join this Zoom meeting. Meeting ID: 817 496 4437 Passcode: 941033
URL:https://wpsite.fwas.org/event/december-speaker/
LOCATION:Meet virtually via zoom until UNT Health & Science Center Research & Ed Bldg\, Rm 100 is available to public. Obtain login credentials  via “Contact Us”\, Request zoom link via "contact us"
CATEGORIES:General Meeting
END:VEVENT
END:VCALENDAR